BEGIN:VCALENDAR
VERSION:2.0
PRODID:Events Booking
BEGIN:VEVENT
UID:69e4d1be1a7c7
SUMMARY:Zundert 13-8-2017
DESCRIPTION:
 
 
 &nbsp\;&nbsp\;&nbsp\;&nbsp\;&nbsp\;&nbsp\;&nbsp\;
 

  
 
 Klassieke Zundertrit die ons voert via Riel\, Alphen\, Baarle-Nassa
 u\, Baarle-Hertog\, Hoogstraten\, Zundert\, Rijsbergen\, Chaam\, Alphen\, 
 Riel en terug naar Goirle.
 Zorg dat je je identiteitskaart of paspoort b
 ij je hebt!
 
 
 
 
LOCATION:Frankische Driehoek\, 5052 Goirle\, Nederland
DTSTART:20170813T063000Z
DTSTAMP:20260419T125942Z
ORGANIZER;CN=Website WTC De Hellen:MAILTO:webmaster@wtcdehellen.nl
GEO:51.526267;5.051304
X-APPLE-STRUCTURED-LOCATION;VALUE=URI;X-ADDRESS=Frankische Driehoek\, 5052 
 Goirle\, Nederland;X-APPLE-RADIUS=72;X-TITLE=De Deel:51.526267;5.051304
END:VEVENT
END:VCALENDAR