BEGIN:VCALENDAR
VERSION:2.0
PRODID:Events Booking
BEGIN:VEVENT
UID:69e4d1bf2b1ed
SUMMARY:Zundert
DESCRIPTION:
 
 
 &nbsp\; 
 
 
 
 Klassieke Zundertrit die ons voert
  via Riel\, Alphen\, Baarle-Nassau\, Baarle-Hertog\, Hoogstraten\, Zundert
 \, Rijsbergen\, Chaam\, Alphen\, Riel en terug naar Goirle.
 Zorg dat je 
 je identiteitskaart of paspoort bij je hebt!
 
 
 
 
LOCATION:Frankische Driehoek\, 5052 Goirle\, Nederland
DTSTART:20170809T070000Z
DTSTAMP:20260419T125943Z
ORGANIZER;CN=Website WTC De Hellen:MAILTO:webmaster@wtcdehellen.nl
GEO:51.526267;5.051304
X-APPLE-STRUCTURED-LOCATION;VALUE=URI;X-ADDRESS=Frankische Driehoek\, 5052 
 Goirle\, Nederland;X-APPLE-RADIUS=72;X-TITLE=De Deel:51.526267;5.051304
END:VEVENT
END:VCALENDAR