BEGIN:VCALENDAR
VERSION:2.0
PRODID:Events Booking
BEGIN:VEVENT
UID:69e5c3d9e52bb
SUMMARY:Winterritten
DESCRIPTION:
DTSTART:20230122T083000Z
DTSTAMP:20221104T192941Z
ORGANIZER;CN=Website WTC De Hellen:MAILTO:webmaster@wtcdehellen.nl
END:VEVENT
END:VCALENDAR