BEGIN:VCALENDAR
VERSION:2.0
PRODID:Events Booking
BEGIN:VEVENT
UID:69e4d17c5eedc
SUMMARY:Wintelre 16-7-2017
DESCRIPTION:
 
 
 &nbsp\;&nbsp\;&nbsp\;&nbsp\;&nbsp\;&nbsp\;&nbsp\;&nbsp
 \;
 
 
 
 Toffe toerrit via Tilburg\, Enschot\, Oisterwijk\, over de L
 ogtsebaan naar Oirschot\, Oostelbeers\, Vessem\, Diessen\, Haghorst\, Bies
 t-Houtakker en terug naar Goirle.
 
 
 
 
LOCATION:Frankische Driehoek\, 5052 Goirle\, Nederland
DTSTART:20170716T063000Z
DTSTAMP:20260419T125836Z
ORGANIZER;CN=Website WTC De Hellen:MAILTO:webmaster@wtcdehellen.nl
GEO:51.526267;5.051304
X-APPLE-STRUCTURED-LOCATION;VALUE=URI;X-ADDRESS=Frankische Driehoek\, 5052 
 Goirle\, Nederland;X-APPLE-RADIUS=72;X-TITLE=De Deel:51.526267;5.051304
END:VEVENT
END:VCALENDAR