BEGIN:VCALENDAR
VERSION:2.0
PRODID:Events Booking
BEGIN:VEVENT
UID:69e6c5a991638
SUMMARY:Wintelre 99km 2-6-2019
DESCRIPTION:{GPSCONTENT [\"id\": 146\, \"elevation\": 1\, \"speed\": 1\, \"
 nomap\": 1\, \"description\": 1]}
DTSTART:20190602T063000Z
DTSTAMP:20260421T003241Z
ORGANIZER;CN=Website WTC De Hellen:MAILTO:webmaster@wtcdehellen.nl
END:VEVENT
END:VCALENDAR