BEGIN:VCALENDAR
VERSION:2.0
PRODID:Events Booking
BEGIN:VEVENT
UID:69e4d21796112
SUMMARY:Welschap 9-7-2017
DESCRIPTION:
 
 
 |&nbsp\;&nbsp\;&nbsp\;&nbsp\;&nbsp\;&nbsp\;&nbsp\;|&nb
 sp\;&nbsp\; |&nbsp\;&nbsp\;
 
 
 
 Toerrit via Biest-Houtakker\, Hagho
 rst\, Oirschot\, langs vliegveld Welschap\, Wintelre\, Zandoerle\, Knegsel
 \, Vessem\, Westelbeers\, Esbeek\, Diessen\, Hilvarenbeek en Biest-Houtakk
 er terug naar Goirle.
 
 
 
 
LOCATION:Frankische Driehoek\, 5052 Goirle\, Nederland
DTSTART:20170709T063000Z
DTSTAMP:20260419T130111Z
ORGANIZER;CN=Website WTC De Hellen:MAILTO:webmaster@wtcdehellen.nl
GEO:51.526267;5.051304
X-APPLE-STRUCTURED-LOCATION;VALUE=URI;X-ADDRESS=Frankische Driehoek\, 5052 
 Goirle\, Nederland;X-APPLE-RADIUS=72;X-TITLE=De Deel:51.526267;5.051304
END:VEVENT
END:VCALENDAR