BEGIN:VCALENDAR
VERSION:2.0
PRODID:Events Booking
BEGIN:VEVENT
UID:69e64dec5aed6
SUMMARY:Cyklist (oude Velosoof) 127km
DESCRIPTION:{GPSCONTENT [\"id\": 147\, \"elevation\": 1\, \"speed\": 1\, \"
 nomap\": 1\, \"description\": 1]}
DTSTART:20200912T060000Z
DTEND:20200910T215500Z
DTSTAMP:20260420T160148Z
ORGANIZER;CN=Website WTC De Hellen:MAILTO:webmaster@wtcdehellen.nl
END:VEVENT
END:VCALENDAR