BEGIN:VCALENDAR
VERSION:2.0
PRODID:Events Booking
BEGIN:VEVENT
UID:69e4d216edde6
SUMMARY:Ulvenhout (i.p.v. woensdag i.v.m. regen)
DESCRIPTION:
 
 
 |&nbsp\;&nbsp\; &nbsp\;
 
 
 
 Klassieke rit via R
 iel\, Alphen\, Chaam\, Strijbeek\, Meerseldreef\, Ulvenhout\, Breda\, Bave
 l en Gilze via Riel terug naar Goirle.
 
 
 
 
DTSTART:20170713T070000Z
DTSTAMP:20260419T130110Z
ORGANIZER;CN=Website WTC De Hellen:MAILTO:webmaster@wtcdehellen.nl
END:VEVENT
END:VCALENDAR