BEGIN:VCALENDAR
VERSION:2.0
PRODID:Events Booking
BEGIN:VEVENT
UID:69e4fc590c8c9
SUMMARY:Trainingsrit - 12-9-2017
DESCRIPTION:
 
 
 |&nbsp\;&nbsp\;&nbsp\;&nbsp\;&nbsp\;&nbsp\;
 
 
 

  De 4 bultjes rond Chaam en weer terug
 
 
 
 
DTSTART:20170912T163000Z
DTSTAMP:20260419T160129Z
ORGANIZER;CN=Website WTC De Hellen:MAILTO:webmaster@wtcdehellen.nl
END:VEVENT
END:VCALENDAR