BEGIN:VCALENDAR
VERSION:2.0
PRODID:Events Booking
BEGIN:VEVENT
UID:69e68870b93ab
SUMMARY:Steensel 92km
DESCRIPTION:&nbsp\;{GPSCONTENT [\"id\": 207\, \"elevation\": 1\, \"speed\":
  1\, \"nomap\": 1\, \"description\": 1]}
DTSTART:20200411T063000Z
DTSTAMP:20260420T201128Z
ORGANIZER;CN=Website WTC De Hellen:MAILTO:webmaster@wtcdehellen.nl
END:VEVENT
END:VCALENDAR