BEGIN:VCALENDAR
VERSION:2.0
PRODID:Events Booking
BEGIN:VEVENT
UID:69e4e5d342af1
SUMMARY:Steensel
DESCRIPTION:
 
 
 |     
 
 
 
 Leuke 'Kempenrit' via Biest-Hou
 takker\, Moergestel\, Spoordonk\, Oostelbeers\, Wintelre\, Zandoerle\, Kne
 gsel\, Vessem\, Oost-\, West- en Middelbeers\, Haghorst en Biest-Houtakker
  terug naar Goirle.
 
 
 
 
LOCATION:Frankische Driehoek\, 5052 Goirle\, Nederland
DTSTART:20170917T063000Z
DTSTAMP:20260419T142523Z
ORGANIZER;CN=Website WTC De Hellen:MAILTO:webmaster@wtcdehellen.nl
GEO:51.526267;5.051304
X-APPLE-STRUCTURED-LOCATION;VALUE=URI;X-ADDRESS=Frankische Driehoek\, 5052 
 Goirle\, Nederland;X-APPLE-RADIUS=72;X-TITLE=De Deel:51.526267;5.051304
END:VEVENT
END:VCALENDAR