BEGIN:VCALENDAR
VERSION:2.0
PRODID:Events Booking
BEGIN:VEVENT
UID:69e6760c8b7f8
SUMMARY:Scherpenheuvel 160km
DESCRIPTION:{GPSCONTENT [\"id\": 168\, \"elevation\": 1\, \"speed\": 1\, \"
 nomap\": 1\, \"description\": 1]}
DTSTART:20200531T053000Z
DTSTAMP:20260420T185300Z
ORGANIZER;CN=Website WTC De Hellen:MAILTO:webmaster@wtcdehellen.nl
END:VEVENT
END:VCALENDAR