BEGIN:VCALENDAR
VERSION:2.0
PRODID:Events Booking
BEGIN:VEVENT
UID:69e4d21494d48
SUMMARY:Rondom Eindhoven
DESCRIPTION:
 
 
 &nbsp\; &nbsp\;&nbsp\;&nbsp\;
 
 
 
 Een echte 'da
 gtocht' die ons voert via Biest-Houtakker\, Diessen\, Oerle\, Riethoven\, 
 Westerhoven\, Leende\, Sterksel\, Lierop\, Mierlo\, Breugel\, Sint-Oedenro
 de\, Liempde\, door de omgeving van de Logt naar Biest-Houtakker en terug 
 naar Goirle.
 De pauze is voorzien bij: Gasterij 't Anker\, Vesperstraat 
 8 in Mierlo.
 
 
 
 
LOCATION:Frankische Driehoek\, 5052 Goirle\, Nederland
DTSTART:20170715T060000Z
DTSTAMP:20260419T130108Z
ORGANIZER;CN=Website WTC De Hellen:MAILTO:webmaster@wtcdehellen.nl
GEO:51.526267;5.051304
X-APPLE-STRUCTURED-LOCATION;VALUE=URI;X-ADDRESS=Frankische Driehoek\, 5052 
 Goirle\, Nederland;X-APPLE-RADIUS=72;X-TITLE=De Deel:51.526267;5.051304
END:VEVENT
END:VCALENDAR