BEGIN:VCALENDAR
VERSION:2.0
PRODID:Events Booking
BEGIN:VEVENT
UID:69e69c98e7456
SUMMARY:Punten koppelkoers Extra
DESCRIPTION:
DTSTART:20190929T070000Z
DTSTAMP:20260420T213728Z
ORGANIZER;CN=Website WTC De Hellen:MAILTO:webmaster@wtcdehellen.nl
END:VEVENT
END:VCALENDAR