BEGIN:VCALENDAR
VERSION:2.0
PRODID:Events Booking
BEGIN:VEVENT
UID:69e69d40e28b2
SUMMARY:Punten 5e plaats koppelkoers 2019
DESCRIPTION:
DTSTART:20190929T070000Z
DTSTAMP:20260420T214016Z
ORGANIZER;CN=Website WTC De Hellen:MAILTO:webmaster@wtcdehellen.nl
END:VEVENT
END:VCALENDAR