BEGIN:VCALENDAR
VERSION:2.0
PRODID:Events Booking
BEGIN:VEVENT
UID:69e69cfd31a90
SUMMARY:Punten 2e plaats koppelkoers 2019
DESCRIPTION:
DTSTART:20190929T070000Z
DTSTAMP:20260420T213909Z
ORGANIZER;CN=Website WTC De Hellen:MAILTO:webmaster@wtcdehellen.nl
END:VEVENT
END:VCALENDAR