BEGIN:VCALENDAR
VERSION:2.0
PRODID:Events Booking
BEGIN:VEVENT
UID:69e689f78fcb9
SUMMARY:Om de Beerzen 64km
DESCRIPTION:{GPSCONTENT [\"id\": 181\, \"elevation\": 1\, \"speed\": 1\, \"
 nomap\": 1\, \"description\": 1]}
DTSTART:20191013T080000Z
DTSTAMP:20260420T201759Z
ORGANIZER;CN=Website WTC De Hellen:MAILTO:webmaster@wtcdehellen.nl
END:VEVENT
END:VCALENDAR