BEGIN:VCALENDAR
VERSION:2.0
PRODID:Events Booking
BEGIN:VEVENT
UID:69e59ddc5c32e
SUMMARY:Olland 84km
DESCRIPTION:
DTSTART:20230607T070000Z
DTSTAMP:20230101T122908Z
ORGANIZER;CN=Website WTC De Hellen:MAILTO:webmaster@wtcdehellen.nl
END:VEVENT
END:VCALENDAR