BEGIN:VCALENDAR
VERSION:2.0
PRODID:Events Booking
BEGIN:VEVENT
UID:69e634d66a519
SUMMARY:Oirschot 69km
DESCRIPTION:{GPSCONTENT [\"id\": 75\, \"elevation\": 1\, \"speed\": 1\, \"n
 omap\": 1\, \"description\": 1]}
DTSTART:20210718T073000Z
DTSTAMP:20260420T141446Z
ORGANIZER;CN=Website WTC De Hellen:MAILTO:webmaster@wtcdehellen.nl
END:VEVENT
END:VCALENDAR