BEGIN:VCALENDAR
VERSION:2.0
PRODID:Events Booking
BEGIN:VEVENT
UID:69e612cd9229b
SUMMARY:Nieuwkuijk 69km
DESCRIPTION:{GPSCONTENT [\"id\": 266\, \"elevation\": 1\, \"speed\": 1\, \"
 nomap\": 1\, \"description\": 1]}
DTSTART:20220529T073000Z
DTSTAMP:20211230T102508Z
ORGANIZER;CN=Website WTC De Hellen:MAILTO:webmaster@wtcdehellen.nl
END:VEVENT
END:VCALENDAR