BEGIN:VCALENDAR
VERSION:2.0
PRODID:Events Booking
BEGIN:VEVENT
UID:69e69c9eb558f
SUMMARY:Nieuwkuijk 68km
DESCRIPTION:{GPSCONTENT [\"id\": 266\, \"elevation\": 1\, \"speed\": 1\, \"
 nomap\": 1\, \"description\": 1]}
DTSTART:20191006T080000Z
DTSTAMP:20260420T213734Z
ORGANIZER;CN=Website WTC De Hellen:MAILTO:webmaster@wtcdehellen.nl
END:VEVENT
END:VCALENDAR