BEGIN:VCALENDAR
VERSION:2.0
PRODID:Events Booking
BEGIN:VEVENT
UID:69e4e67aca3aa
SUMMARY:\"Neeltje Jans\" GEANNULEERD
DESCRIPTION:
 
 
 | &nbsp\; &nbsp\;&nbsp\;&nbsp\;&nbsp\;&nbsp\;|&nbsp\; 
  |&nbsp\;&nbsp\;
 
 
 
 Een prachtig rondje 'windhappen' in Zeeland\; 
 over de Zeelandbrug heen en via Neeltje Jans terug.
 De pauze is voorzien
  bij:&nbsp\;Brasserie \"Oostdok\" in Veere.
 
 
 
 
LOCATION:Smokkelhoekweg\, 4421 Kapelle\, Nederland
DTSTART:20170909T060000Z
DTSTAMP:20260419T142810Z
ORGANIZER;CN=Website WTC De Hellen:MAILTO:webmaster@wtcdehellen.nl
GEO:51.469347;3.968382
X-APPLE-STRUCTURED-LOCATION;VALUE=URI;X-ADDRESS=Smokkelhoekweg\, 4421 Kapel
 le\, Nederland;X-APPLE-RADIUS=72;X-TITLE=Café Restaurant \"De Caisson\":5
 1.469347;3.968382
END:VEVENT
END:VCALENDAR