BEGIN:VCALENDAR
VERSION:2.0
PRODID:Events Booking
BEGIN:VEVENT
UID:69e4e5ed0df84
SUMMARY:Merksplas
DESCRIPTION:
 
 
 |     
 
 
 
 Klassieke rit via Riel\, Alphen
 \, Baarle-Hertog\, Zondereigen\, Merksplas\, Wortel\, Minderhout\, Ulicote
 n\, Chaam en via Riel terug naar Goirle.
 
 
 
 
LOCATION:Frankische Driehoek\, 5052 Goirle\, Nederland
DTSTART:20170923T063000Z
DTSTAMP:20260419T142549Z
ORGANIZER;CN=Website WTC De Hellen:MAILTO:webmaster@wtcdehellen.nl
GEO:51.526267;5.051304
X-APPLE-STRUCTURED-LOCATION;VALUE=URI;X-ADDRESS=Frankische Driehoek\, 5052 
 Goirle\, Nederland;X-APPLE-RADIUS=72;X-TITLE=De Deel:51.526267;5.051304
END:VEVENT
END:VCALENDAR