BEGIN:VCALENDAR
VERSION:2.0
PRODID:Events Booking
BEGIN:VEVENT
UID:69e6b0c92bd06
SUMMARY:Maasroute 94km 23-6-2019
DESCRIPTION:{GPSCONTENT [\"id\": 102\, \"elevation\": 1\, \"speed\": 1\, \"
 nomap\": 1\, \"description\": 1]}
DTSTART:20190623T063000Z
DTSTAMP:20260420T230337Z
ORGANIZER;CN=Website WTC De Hellen:MAILTO:webmaster@wtcdehellen.nl
END:VEVENT
END:VCALENDAR