BEGIN:VCALENDAR
VERSION:2.0
PRODID:Events Booking
BEGIN:VEVENT
UID:69e4d3150adc8
SUMMARY:Logt en Heike
DESCRIPTION:
 
 
 |&nbsp\;&nbsp\; &nbsp\;
 
 
 
 Vanuit De Deel rich
 ting Hilvarenbeek\, Moergestel\, Oisterwijk\, Oirschot\, Vessem\, Oost-\, 
 West- en Middelbeers\, Diessen\, Hilvarenbeek en terug naar Goirle. Kortom
 : Eerst naar de Logt\, dan oversteken en via het Heike terug richting Goir
 le.
 
 
 
 
LOCATION:Frankische Driehoek\, 5052 Goirle\, Nederland
DTSTART:20170719T070000Z
DTSTAMP:20260419T130525Z
ORGANIZER;CN=Website WTC De Hellen:MAILTO:webmaster@wtcdehellen.nl
GEO:51.526267;5.051304
X-APPLE-STRUCTURED-LOCATION;VALUE=URI;X-ADDRESS=Frankische Driehoek\, 5052 
 Goirle\, Nederland;X-APPLE-RADIUS=72;X-TITLE=De Deel:51.526267;5.051304
END:VEVENT
END:VCALENDAR