BEGIN:VCALENDAR
VERSION:2.0
PRODID:Events Booking
BEGIN:VEVENT
UID:69e610d3b970c
SUMMARY:Lennisheuvel 67km
DESCRIPTION:{GPSCONTENT [\"id\": 184\, \"elevation\": 1\, \"speed\": 1\, \"
 nomap\": 1\, \"description\": 1]}
DTSTART:20220320T090000Z
DTSTAMP:20211229T152948Z
ORGANIZER;CN=Website WTC De Hellen:MAILTO:webmaster@wtcdehellen.nl
END:VEVENT
END:VCALENDAR