BEGIN:VCALENDAR
VERSION:2.0
PRODID:Events Booking
BEGIN:VEVENT
UID:69e6b1ee1d341
SUMMARY:Lac et Fagne 129km
DESCRIPTION:{GPSCONTENT [\"id\": 196\, \"elevation\": 1\, \"speed\": 1\, \"
 nomap\": 1\, \"description\": 1]}
DTSTART:20190615T050000Z
DTSTAMP:20260420T230830Z
ORGANIZER;CN=Website WTC De Hellen:MAILTO:webmaster@wtcdehellen.nl
END:VEVENT
END:VCALENDAR