BEGIN:VCALENDAR
VERSION:2.0
PRODID:Events Booking
BEGIN:VEVENT
UID:69e732880a4d0
SUMMARY:Koppelkoers
DESCRIPTION:
 
 
 &nbsp\;&nbsp\; &nbsp\;&nbsp\;&nbsp\;&nbsp\;&nbsp\;&nbs
 p\;&nbsp\;&nbsp\;
 
 
 
 We starten -natuurlijk- vanuit Mozes met ter 
 plekke te vormen koppels en&nbsp\;deze rijden&nbsp\;een onbekende afstand 
 over een uitgepeilde route\; tegen een tempo dat elk koppel zelf opgeeft.
 
 Gebruik van fietscomputers\, snelheidsmeters\, horloges of andere tijdme
 etapparatuur is hierbij niet toegestaan.
 Het koppel dat het dichtst het 
 vooraf opgegeven tempo benadert wint de koppelkoers.
 Ook dit jaar weer b
 epalend voor de uiteindelijke winst van ons Hellenrijdersklassement. De ee
 rste 5 koppels krijgen respectievelijk 300\, 250\, 200\, 150 en 100 punten
  (extra)\, bovenop de punten van de afgelegde afstand.
 Tijdig vooraf&nbs
 p\;inschrijven is&nbsp\;een must om in aanmerking te komen voor de Hellenr
 ijderspunten! Zodoende&nbsp\;kunnen wij ook vooraf de namen van de deelnem
 ers alvast 'in de hoge hoed'&nbsp\;doen!
 
 
 
 
LOCATION:De Hovel 45\, 5051 NR Goirle\, Nederland
DTSTART:20170924T063000Z
DTSTAMP:20260421T081712Z
ORGANIZER;CN=Website WTC De Hellen:MAILTO:webmaster@wtcdehellen.nl
GEO:51.52063;5.068048
X-APPLE-STRUCTURED-LOCATION;VALUE=URI;X-ADDRESS=De Hovel 45\, 5051 NR Goirl
 e\, Nederland;X-APPLE-RADIUS=72;X-TITLE=Café Mozes:51.52063;5.068048
END:VEVENT
END:VCALENDAR