BEGIN:VCALENDAR
VERSION:2.0
PRODID:Events Booking
BEGIN:VEVENT
UID:69e4e760ef5e1
SUMMARY:Koppelkoers 1e plaats
DESCRIPTION:
 
 
 &nbsp\;&nbsp\;&nbsp\; &nbsp\;&nbsp\;&nbsp\;&nbsp\;&nbs
 p\;|&nbsp\;&nbsp\; |&nbsp\;&nbsp\;
 
 
 
 Plaats 1 Koppelkoers
 
 

  
 
DTSTART:20170923T220000Z
DTSTAMP:20260419T143200Z
ORGANIZER;CN=Website WTC De Hellen:MAILTO:webmaster@wtcdehellen.nl
END:VEVENT
END:VCALENDAR