BEGIN:VCALENDAR
VERSION:2.0
PRODID:Events Booking
BEGIN:VEVENT
UID:69e50f98ac0c2
SUMMARY:Koppelkoers 5e plaats
DESCRIPTION:
DTSTART:20170923T220000Z
DTSTAMP:20260419T172336Z
ORGANIZER;CN=Website WTC De Hellen:MAILTO:webmaster@wtcdehellen.nl
END:VEVENT
END:VCALENDAR