BEGIN:VCALENDAR
VERSION:2.0
PRODID:Events Booking
BEGIN:VEVENT
UID:69e4e644ed056
SUMMARY:Koppelkoers 4e plaats
DESCRIPTION:
DTSTART:20170923T220000Z
DTSTAMP:20260419T142716Z
ORGANIZER;CN=Website WTC De Hellen:MAILTO:webmaster@wtcdehellen.nl
END:VEVENT
END:VCALENDAR