BEGIN:VCALENDAR
VERSION:2.0
PRODID:Events Booking
BEGIN:VEVENT
UID:69e5239f12720
SUMMARY:Koppelkoers 3e plaats
DESCRIPTION:
DTSTART:20170923T220000Z
DTSTAMP:20260419T184903Z
ORGANIZER;CN=Website WTC De Hellen:MAILTO:webmaster@wtcdehellen.nl
END:VEVENT
END:VCALENDAR