BEGIN:VCALENDAR
VERSION:2.0
PRODID:Events Booking
BEGIN:VEVENT
UID:69e4fbb5ca473
SUMMARY:Koppelkoers 2e plaats
DESCRIPTION:
DTSTART:20170923T220000Z
DTSTAMP:20260419T155845Z
ORGANIZER;CN=Website WTC De Hellen:MAILTO:webmaster@wtcdehellen.nl
END:VEVENT
END:VCALENDAR