BEGIN:VCALENDAR
VERSION:2.0
PRODID:Events Booking
BEGIN:VEVENT
UID:69e6ef72c53be
SUMMARY:Koppelkoers 
DESCRIPTION:
DTSTART:20181007T063000Z
DTSTAMP:20260421T033058Z
ORGANIZER;CN=Website WTC De Hellen:MAILTO:webmaster@wtcdehellen.nl
END:VEVENT
END:VCALENDAR