BEGIN:VCALENDAR
VERSION:2.0
PRODID:Events Booking
BEGIN:VEVENT
UID:69e4d17bd90f3
SUMMARY:Kinderdijk
DESCRIPTION:
 
 
 &nbsp\;&nbsp\; &nbsp\;&nbsp\;&nbsp\;&nbsp\;&nbsp\;
 
 
 
 
 Deze tocht naar de molens van Kinderdijk voert ons door prachtig g
 ebied via Tilburg\, Udenhout\, Drunen\, Wijk en Aalburg\, Woudrichem\, Gij
 beland\, Lekkerkerk\, Schoonhoven\, Meerkerk\, Leerdam\, Beesd\, Zaltbomme
 l\, Hedel\, Den Bosch\, Helvoirt\, Haaren\, Oisterwijk en Moergestel uitei
 ndelijk terug naar Goirle.
 Dit “dagje uit” bestaat uit 214 km fietse
 n\; zorg er dus voor dat je voldoende km's 'in de benen hebt'!
 Voor de 2
 7-groep gaan we bij voldoende deelname regelen dat ook zij de 214 km op ei
 gen tempo kunnen fietsen\, en dat er drie pauzeplekken (lunch halverwege e
 n 3e pauze voor eigen rekening) onderweg zijn. 
 Pauzes 27-groep 84\, 120
  en 180 km
 De track -ook voor de rit met 3 pauzes- staat op onze site.&n
 bsp\;De pauzeplaatsen zijn als waypoint opgenomen in de track.
 
 
 
 
DTSTART:20170805T053000Z
DTSTAMP:20260419T125835Z
ORGANIZER;CN=Website WTC De Hellen:MAILTO:webmaster@wtcdehellen.nl
END:VEVENT
END:VCALENDAR