BEGIN:VCALENDAR
VERSION:2.0
PRODID:Events Booking
BEGIN:VEVENT
UID:69e639503f34b
SUMMARY:Kinderdijk/ Linge 214km
DESCRIPTION:{GPSCONTENT [\"id\": 93\, \"elevation\": 1\, \"speed\": 1\, \"n
 omap\": 1\, \"description\": 1]}
DTSTART:20210717T053000Z
DTSTAMP:20260420T143352Z
ORGANIZER;CN=Website WTC De Hellen:MAILTO:webmaster@wtcdehellen.nl
END:VEVENT
END:VCALENDAR