BEGIN:VCALENDAR
VERSION:2.0
PRODID:Events Booking
BEGIN:VEVENT
UID:69e5ec2318b1f
SUMMARY:Kinderdijk 214km
DESCRIPTION:{GPSCONTENT [\"id\": 93\, \"elevation\": 1\, \"speed\": 1\, \"n
 omap\": 1\, \"description\": 1]}
DTSTART:20220716T053000Z
DTSTAMP:20211230T124151Z
ORGANIZER;CN=Website WTC De Hellen:MAILTO:webmaster@wtcdehellen.nl
END:VEVENT
END:VCALENDAR