BEGIN:VCALENDAR
VERSION:2.0
PRODID:Events Booking
BEGIN:VEVENT
UID:69e6625b4455e
SUMMARY:Kinderdijk 214km
DESCRIPTION:{GPSCONTENT [\"id\": 93\, \"elevation\": 1\, \"speed\": 1\, \"n
 omap\": 1\, \"description\": 1]}
DTSTART:20200704T053000Z
DTEND:20200702T215500Z
DTSTAMP:20260420T172859Z
ORGANIZER;CN=Website WTC De Hellen:MAILTO:webmaster@wtcdehellen.nl
END:VEVENT
END:VCALENDAR