BEGIN:VCALENDAR
VERSION:2.0
PRODID:Events Booking
BEGIN:VEVENT
UID:69e5d65c0b0f9
SUMMARY:Kattenbosch 104km
DESCRIPTION:{GPSCONTENT [\"id\": 105\, \"elevation\": 1\, \"speed\": 1\, \"
 nomap\": 1\, \"description\": 1]}
DTSTART:20221008T070000Z
DTSTAMP:20211230T171508Z
ORGANIZER;CN=Website WTC De Hellen:MAILTO:webmaster@wtcdehellen.nl
END:VEVENT
END:VCALENDAR