BEGIN:VCALENDAR
VERSION:2.0
PRODID:Events Booking
BEGIN:VEVENT
UID:69e6636f2a99d
SUMMARY:Heropeningsrit 2020 78km
DESCRIPTION:Uit een voorstel van één van onze leden heeft het bestuur en 
 de toercommissie besloten een heropeningsrit te organiseren.
 Natuurlijk 
 gaan we dat doen met inachtneming van alle coronaregels.
 Op het programm
 a staat een rit van 78 km met een koffiepauze binnen de coronaregels.
 Na
 tuurlijk is opgeven verplicht zodat we vooraf alle groepen in kunnen delen
  van maximaal 10 personen.
 De rit zal redelijk vergelijkbaar zijn met de
  openingsrit van 2020 met een paar wijzigingen in de track en een andere p
 auzeplek.
 Normaal hebben we met de openingsrit een afsluiting bij Mozes.
  In verband met de coronaregels is er voor gekozen om dat deze keer niet t
 e doen.
 We eindigen wel op de Tilburgse weg maar als club gaan we niet n
 aar Mozes.
 &nbsp\;
 Bij slecht weer wordt de heropeningsrit afgelast!

  &nbsp\;
 Hopelijk snapt iedereen de noodzaak van de 1\,5 meter en houden
  we ons daar ook aan. Indien verkouden of met ziekteverschijnselen graag a
 fmelden bij de organisatie.
 {GPSCONTENT [\"id\": 285\, \"elevation\": 1\
 , \"speed\": 1\, \"nomap\": 1\, \"description
LOCATION:Frankische Driehoek\, 5052 Goirle\, Nederland
DTSTART:20200705T063000Z
DTSTAMP:20260420T173335Z
ORGANIZER;CN=Website WTC De Hellen:MAILTO:webmaster@wtcdehellen.nl
GEO:51.526267;5.051304
X-APPLE-STRUCTURED-LOCATION;VALUE=URI;X-ADDRESS=Frankische Driehoek\, 5052 
 Goirle\, Nederland;X-APPLE-RADIUS=72;X-TITLE=De Deel:51.526267;5.051304
END:VEVENT
END:VCALENDAR