BEGIN:VCALENDAR
VERSION:2.0
PRODID:Events Booking
BEGIN:VEVENT
UID:69e4d2f553d3c
SUMMARY:Dwars door brabant
DESCRIPTION:
 
 
 &nbsp\;&nbsp\;&nbsp\;&nbsp\;&nbsp\;&nbsp\;&nbsp\;
 

  
 
 Toffe Brabantse rit via Hilvarenbeek\, Oost West en Middelbeers\, W
 intelre\, Eindhoven Airport\, Oirschot\, Oisterwijk\, Haaren\, Helvoirt\, 
 Biezenmortel\, Berkel-Enschot\, Heukelom\, Tilburg-Zuid weer terug naar (M
 ozes) Goirle.
 Pauze onderweg kan\;&nbsp\;wel voor vertrek afspreken onde
 rling!
 
 
 
 
LOCATION:Frankische Driehoek\, 5052 Goirle\, Nederland
DTSTART:20170812T063000Z
DTSTAMP:20260419T130453Z
ORGANIZER;CN=Website WTC De Hellen:MAILTO:webmaster@wtcdehellen.nl
GEO:51.526267;5.051304
X-APPLE-STRUCTURED-LOCATION;VALUE=URI;X-ADDRESS=Frankische Driehoek\, 5052 
 Goirle\, Nederland;X-APPLE-RADIUS=72;X-TITLE=De Deel:51.526267;5.051304
END:VEVENT
END:VCALENDAR