BEGIN:VCALENDAR
VERSION:2.0
PRODID:Events Booking
BEGIN:VEVENT
UID:69e4d2164175f
SUMMARY:Dussen den overkant
DESCRIPTION:
 
 
         
 
 
 
 Toerrit via 't Groene Woud
  Tilburg\, Heukelom\, Berkel-Enschot\, Biezenmortel\, Vlijmen\, (Oud)Heusd
 en\, Doeveren\, Sprang-Capelle\, Waspik\, 's-Gravenmoer\, Uiterste Stuiver
  (Dongen)\, Hulten\, Gilze\, Riel en terug naar Goirle.
 Dussen blijft aa
 n de overkant liggen\; we steken dus niet (meer) over met het pontje. Vlot
 ter\, en waarschijnlijk veel minder last van de schapenstront.
 
 
 
 
LOCATION:Frankische Driehoek\, 5052 Goirle\, Nederland
DTSTART:20170806T063000Z
DTSTAMP:20260419T130110Z
ORGANIZER;CN=Website WTC De Hellen:MAILTO:webmaster@wtcdehellen.nl
GEO:51.526267;5.051304
X-APPLE-STRUCTURED-LOCATION;VALUE=URI;X-ADDRESS=Frankische Driehoek\, 5052 
 Goirle\, Nederland;X-APPLE-RADIUS=72;X-TITLE=De Deel:51.526267;5.051304
END:VEVENT
END:VCALENDAR