BEGIN:VCALENDAR
VERSION:2.0
PRODID:Events Booking
BEGIN:VEVENT
UID:69e4d1be9b139
SUMMARY:Den Bosch
DESCRIPTION:
 
 
 &nbsp\;&nbsp\;&nbsp\;&nbsp\;&nbsp\;&nbsp\;&nbsp\;
 

  
 
 Fijne toerrit die ons via Hilvarenbeek\, Biest-Houtakker\, Spoordon
 k\, Liempde\, Langenberg\, Gemonde\, Sint-Michielsgestel\, Esch\, Haaren\,
  Oisterwijk\, Moergestel\, Tilburg en weer terug in Goirle brengt.
 
 

  
 
LOCATION:Frankische Driehoek\, 5052 Goirle\, Nederland
DTSTART:20170715T063000Z
DTSTAMP:20260419T125942Z
ORGANIZER;CN=Website WTC De Hellen:MAILTO:webmaster@wtcdehellen.nl
GEO:51.526267;5.051304
X-APPLE-STRUCTURED-LOCATION;VALUE=URI;X-ADDRESS=Frankische Driehoek\, 5052 
 Goirle\, Nederland;X-APPLE-RADIUS=72;X-TITLE=De Deel:51.526267;5.051304
END:VEVENT
END:VCALENDAR