BEGIN:VCALENDAR
VERSION:2.0
PRODID:Events Booking
BEGIN:VEVENT
UID:69e6487c74e93
SUMMARY:De ronde van Frankrijk 141km
DESCRIPTION:{GPSCONTENT [\"id\":314\, \"elevation\": 1\, \"speed\": 1\, \"n
 omap\": 1\, \"description\": 1]}
DTSTART:20210703T060000Z
DTSTAMP:20260420T153836Z
ORGANIZER;CN=Website WTC De Hellen:MAILTO:webmaster@wtcdehellen.nl
END:VEVENT
END:VCALENDAR