BEGIN:VCALENDAR
VERSION:2.0
PRODID:Events Booking
BEGIN:VEVENT
UID:69e6354994450
SUMMARY:De Brabantse Pijl 127km
DESCRIPTION:{GPSCONTENT [\"id\": 307\, \"elevation\": 1\, \"speed\": 1\, \"
 nomap\": 1\, \"description\": 1]}
DTSTART:20210731T053000Z
DTSTAMP:20260420T141641Z
ORGANIZER;CN=Website WTC De Hellen:MAILTO:webmaster@wtcdehellen.nl
END:VEVENT
END:VCALENDAR