BEGIN:VCALENDAR
VERSION:2.0
PRODID:Events Booking
BEGIN:VEVENT
UID:69e661d06ab6e
SUMMARY:Biesbosch 145km
DESCRIPTION:{GPSCONTENT [\"id\": 134\, \"elevation\": 1\, \"speed\": 1\, \"
 nomap\": 1\, \"description\": 1]}
DTSTART:20200725T060000Z
DTSTAMP:20260420T172640Z
ORGANIZER;CN=Website WTC De Hellen:MAILTO:webmaster@wtcdehellen.nl
END:VEVENT
END:VCALENDAR