BEGIN:VCALENDAR
VERSION:2.0
PRODID:Events Booking
BEGIN:VEVENT
UID:69e4e5c1e1ced
SUMMARY:Beerse
DESCRIPTION:
 
 
 &nbsp\;&nbsp\; &nbsp\;
 
 
 
 Een leuke toerrit in
  zuid-westelijke richting&nbsp\;via Gilze\, Bavel\, Chaam\, Hoogstraten\, 
 Beerse\, Merksplas\, Baarle-Hertog\, Baarle-Nassau terug naar Goirle.
 Zo
 rg dat je je identiteitskaart of paspoort bij je hebt.
 
 
 
 
LOCATION:Frankische Driehoek\, 5052 Goirle\, Nederland
DTSTART:20170906T070000Z
DTSTAMP:20260419T142505Z
ORGANIZER;CN=Website WTC De Hellen:MAILTO:webmaster@wtcdehellen.nl
GEO:51.526267;5.051304
X-APPLE-STRUCTURED-LOCATION;VALUE=URI;X-ADDRESS=Frankische Driehoek\, 5052 
 Goirle\, Nederland;X-APPLE-RADIUS=72;X-TITLE=De Deel:51.526267;5.051304
END:VEVENT
END:VCALENDAR