BEGIN:VCALENDAR
VERSION:2.0
PRODID:Events Booking
BEGIN:VEVENT
UID:69e5d589db850
SUMMARY:Ammerzoden 120km
DESCRIPTION:{GPSCONTENT [\"id\": 348\, \"elevation\": 1\, \"speed\": 1\, \"
 nomap\": 1\, \"description\": 1]}
DTSTART:20220924T063000Z
DTSTAMP:20220809T050154Z
ORGANIZER;CN=Website WTC De Hellen:MAILTO:webmaster@wtcdehellen.nl
END:VEVENT
END:VCALENDAR